BEGIN:VCALENDAR
VERSION:2.0
PRODID:-//First 5 Siskiyou - ECPv6.15.20//NONSGML v1.0//EN
CALSCALE:GREGORIAN
METHOD:PUBLISH
X-WR-CALNAME:First 5 Siskiyou
X-ORIGINAL-URL:https://first5siskiyou.org
X-WR-CALDESC:Events for First 5 Siskiyou
REFRESH-INTERVAL;VALUE=DURATION:PT1H
X-Robots-Tag:noindex
X-PUBLISHED-TTL:PT1H
BEGIN:VTIMEZONE
TZID:America/Los_Angeles
BEGIN:DAYLIGHT
TZOFFSETFROM:-0800
TZOFFSETTO:-0700
TZNAME:PDT
DTSTART:20210314T100000
END:DAYLIGHT
BEGIN:STANDARD
TZOFFSETFROM:-0700
TZOFFSETTO:-0800
TZNAME:PST
DTSTART:20211107T090000
END:STANDARD
BEGIN:DAYLIGHT
TZOFFSETFROM:-0800
TZOFFSETTO:-0700
TZNAME:PDT
DTSTART:20220313T100000
END:DAYLIGHT
BEGIN:STANDARD
TZOFFSETFROM:-0700
TZOFFSETTO:-0800
TZNAME:PST
DTSTART:20221106T090000
END:STANDARD
BEGIN:DAYLIGHT
TZOFFSETFROM:-0800
TZOFFSETTO:-0700
TZNAME:PDT
DTSTART:20230312T100000
END:DAYLIGHT
BEGIN:STANDARD
TZOFFSETFROM:-0700
TZOFFSETTO:-0800
TZNAME:PST
DTSTART:20231105T090000
END:STANDARD
END:VTIMEZONE
BEGIN:VEVENT
DTSTART;TZID=America/Los_Angeles:20220711T103000
DTEND;TZID=America/Los_Angeles:20220711T120000
DTSTAMP:20260421T030131
CREATED:20220716T053712Z
LAST-MODIFIED:20220831T002249Z
UID:10000055-1657535400-1657540800@first5siskiyou.org
SUMMARY:Playgroup - Yreka
DESCRIPTION:Facilitated by Eric Parsons\nLocation: Yreka Community Resource Center\, 201 S. Broadway\, Yreka\n \nFun\, interactive activities each week! Come join us as we learn through exploration\, play\, and creativity! Our Playgroups are designed to promote learning and play in a safe age-appropriate setting and emphasize socialization for children and adults. They include free play\, music\, story time\, healthy snacks and much more! — Questions? Call Eric at 530.842.1313 \nDownload flyer in PDF\nTo sign-up\, call 530.842.1313
URL:https://first5siskiyou.org/event/play-group-2/2022-07-11/
ATTACH;FMTTYPE=image/png:https://first5siskiyou.org/wp-content/uploads/2022/07/Play-Group-North-County-Sept-2022res.png
END:VEVENT
BEGIN:VEVENT
DTSTART;TZID=America/Los_Angeles:20220711T093000
DTEND;TZID=America/Los_Angeles:20220711T110000
DTSTAMP:20260421T030131
CREATED:20220717T204840Z
LAST-MODIFIED:20220717T205024Z
UID:10000076-1657531800-1657537200@first5siskiyou.org
SUMMARY:Outdoor Playgroup - Mt. Shasta
DESCRIPTION:Co-facilitated by Krista Weagraff and Chrissy Montgomery\nCOME JOIN IN THE FUN! These Playgroups are filled with interactive and hands-on activities: water play\, sensory/messy play\, art\, field games\, stories\, and cooperative games. Meet other parents and caregivers and make special memories! They are FREE and are best for children under the age of 7. \nEvery Monday at Shastice Park\, 800 Rockfellow Drive\, Mt. Shasta ~ Hosted by: Mt. Shasta CRC \nDownload flyer in PDF\nFor more information\, please call 530.926.1400.
URL:https://first5siskiyou.org/event/outdoor-play-group-mt-shasta/2022-07-11/
ATTACH;FMTTYPE=image/png:https://first5siskiyou.org/wp-content/uploads/2022/07/Play-Group-South-County-July-2022res-1.png
END:VEVENT
BEGIN:VEVENT
DTSTART;TZID=America/Los_Angeles:20220708T140000
DTEND;TZID=America/Los_Angeles:20220708T150000
DTSTAMP:20260421T030131
CREATED:20220709T004114Z
LAST-MODIFIED:20220709T010236Z
UID:10000179-1657288800-1657292400@first5siskiyou.org
SUMMARY:Zumbini with Jillian in McCloud!
DESCRIPTION:This special music and movement experience is designed for children under the age of 6 years\, and their parent or caregiver. Come join in the fun this summer on July 8th and 22nd —  and on August 5th and 12th\, from 2-3pm\, at Hoo Hoo Park\, 405 E. Colombero Drive in McCloud!\n\n\nDownload flyer in PDF\nRegister by calling 530.926.1400
URL:https://first5siskiyou.org/event/zumbini-with-jillian-in-mccloud/
ATTACH;FMTTYPE=image/png:https://first5siskiyou.org/wp-content/uploads/2022/07/Zumbini-SV-McCloud-June-Aug-2022res.png
END:VEVENT
BEGIN:VEVENT
DTSTART;TZID=America/Los_Angeles:20220708T100000
DTEND;TZID=America/Los_Angeles:20220708T110000
DTSTAMP:20260421T030131
CREATED:20220717T222022Z
LAST-MODIFIED:20220717T230334Z
UID:10000093-1657274400-1657278000@first5siskiyou.org
SUMMARY:Breastfeeding Support
DESCRIPTION:Breastfeeding support and sisterhood with Jenna Henson Marshall\, who is an IBCLC (International Board Certified Lactation Consultant) and Registered Dietitian\, and join moms for listening\, guidance to care\, and questions about all things nursing. Contact Jenna via cell 510.207.8817 or email (llenalynn@hotmail.com) for a link to a zoom or for advanced breastfeeding consultation needs. \nJenna provides a warm line to ask about nursing and infant feeding via text. Deeper conversations found at the sisterhood support zoom on Fridays. \nDownload flyer in PDF
URL:https://first5siskiyou.org/event/breastfeeding-support/2022-07-08/
ATTACH;FMTTYPE=image/png:https://first5siskiyou.org/wp-content/uploads/2022/07/Breastfeeding-Support-Jenna-Nov-2021res.png
END:VEVENT
BEGIN:VEVENT
DTSTART;TZID=America/Los_Angeles:20220708T100000
DTEND;TZID=America/Los_Angeles:20220708T110000
DTSTAMP:20260421T030131
CREATED:20220709T005513Z
LAST-MODIFIED:20220709T025858Z
UID:10000184-1657274400-1657278000@first5siskiyou.org
SUMMARY:Zumbini with Jillian in Scott Valley!
DESCRIPTION:This special music and movement experience is designed for children under the age of 6 years\, and their parent or caregiver.Come join in the fun this summer on July 8th and 22nd —  and on August 5th and 12th\, from 10-11am\, at the Paul Garrison Picnic Pavillion on Matthews Street in Fort Jones!\n\n\nDownload flyer in PDF\nRegister by calling 530.468.2450
URL:https://first5siskiyou.org/event/zumbini-with-jillian-in-scott-valley/
ATTACH;FMTTYPE=image/png:https://first5siskiyou.org/wp-content/uploads/2022/07/Zumbini-SV-McCloud-June-Aug-2022res.png
END:VEVENT
BEGIN:VEVENT
DTSTART;TZID=America/Los_Angeles:20220707T183000
DTEND;TZID=America/Los_Angeles:20220707T193000
DTSTAMP:20260421T030131
CREATED:20220717T220533Z
LAST-MODIFIED:20220717T220827Z
UID:10000084-1657218600-1657222200@first5siskiyou.org
SUMMARY:Online Book Club
DESCRIPTION:The Kahtíshraam Wellness Center welcomes anyone to this Thursday evening Book Club who wants to learn more about Indigenous peoples of Northern California and how they are working to strengthen and renew their culture for the health and continuance of the peoples and planet. They are currently reading and discussing Salmon & Acorns Feed Our People: Colonialism\, Nature  and Social Action  by Kari Marie Norgaard. Facilitated by Florrine Super\n \nDownload flyer in PDF\nSign-up by calling 530.598.0768
URL:https://first5siskiyou.org/event/online-book-club-2/2022-07-07/
ATTACH;FMTTYPE=image/png:https://first5siskiyou.org/wp-content/uploads/2022/07/Book-Club-Ongoing-July-2022res.png
END:VEVENT
BEGIN:VEVENT
DTSTART;TZID=America/Los_Angeles:20220707T180000
DTEND;TZID=America/Los_Angeles:20220707T200000
DTSTAMP:20260421T030131
CREATED:20220717T223645Z
LAST-MODIFIED:20220831T002503Z
UID:10000106-1657216800-1657224000@first5siskiyou.org
SUMMARY:Playgroup at Farmers Market- Happy Camp
DESCRIPTION:JOIN OTHER FAMILIES FOR SOCIAL CONNECTION AND PLAY AT THE FARMERS MARKET!\nArts & Crafts\, Tunnels\, Story Time\, Play Tents\, Slides\, and more! For families with children under the age of 6 years. \nFacilitated by Tia Tiraterra ~ Questions? 530.493.5117\nLocation: Gail Zink Park\, 134 Park Way\, Happy Camp\n\nDownload flyer in PDF
URL:https://first5siskiyou.org/event/playgroup-in-the-park-happy-camp/2022-07-07/
ATTACH;FMTTYPE=image/jpeg:https://first5siskiyou.org/wp-content/uploads/2022/07/Farmers-Market-Play-Groupres.jpg
END:VEVENT
BEGIN:VEVENT
DTSTART;TZID=America/Los_Angeles:20220707T180000
DTEND;TZID=America/Los_Angeles:20220707T191500
DTSTAMP:20260421T030131
CREATED:20220717T225718Z
LAST-MODIFIED:20220829T183032Z
UID:10000115-1657216800-1657221300@first5siskiyou.org
SUMMARY:Strengthening Families
DESCRIPTION:A virtual program to improve communications and strengthen family relationships ~ for families in recovery.\nCo-facilitated by Toby Reusze and Katy Popa\n \nStrengthening Families Program is a chance to learn new ways to connect with your teen\, pre-teens\, and child and enhance family relationships. \nDownload flyer in PDF \nRegister here!
URL:https://first5siskiyou.org/event/strengthening-families/2022-07-07/
ATTACH;FMTTYPE=image/jpeg:https://first5siskiyou.org/wp-content/uploads/2022/07/Strengthening-Families-Katy-and-Toby-Ongoing-started-Jan-5-2022res.jpg
END:VEVENT
BEGIN:VEVENT
DTSTART;TZID=America/Los_Angeles:20220707T173000
DTEND;TZID=America/Los_Angeles:20220707T190000
DTSTAMP:20260421T030131
CREATED:20220717T210735Z
LAST-MODIFIED:20220717T215618Z
UID:10000067-1657215000-1657220400@first5siskiyou.org
SUMMARY:Family Hui
DESCRIPTION:A PARENT-INITIATED AND SUPPORTED GROUP\nPeer-Parent Group Leaders: Chrissy Montgomery and Amanda Linse \nJoin other parents and caregivers in building community through long-lasting relationships and mutual supports.\nDinner and child care are provided. Location: Family and Community Resource Center of Weed\, 260 Main Street\, Weed \nDownload flyer in PDF\nSign-up by calling 530.938.9914
URL:https://first5siskiyou.org/event/family-hui/2022-07-07/
ATTACH;FMTTYPE=image/png:https://first5siskiyou.org/wp-content/uploads/2022/07/Family-Hui-Apr-27-Jul-14-2022res.png
END:VEVENT
BEGIN:VEVENT
DTSTART;TZID=America/Los_Angeles:20220707T103000
DTEND;TZID=America/Los_Angeles:20220707T120000
DTSTAMP:20260421T030131
CREATED:20220716T053315Z
LAST-MODIFIED:20220831T004310Z
UID:10000033-1657189800-1657195200@first5siskiyou.org
SUMMARY:Playgroup - Montague
DESCRIPTION:Facilitated by Eric Parsons\nLocation: HUB Communities Family Resource Center\, 310 S. 13th Street\, Montague \nFun\, interactive activities each week! Come join us as we learn through exploration\, play\, and creativity! Our Playgroups are designed to promote learning and play in a safe age-appropriate setting and emphasize socialization for children and adults. They include free play\, music\, story time\, healthy snacks and much more! \nDownload flyer in PDF\nTo sign-up\, call 530.459.3481
URL:https://first5siskiyou.org/event/play-group/2022-07-07/
ATTACH;FMTTYPE=image/png:https://first5siskiyou.org/wp-content/uploads/2022/07/Play-Group-North-County-Sept-2022res.png
END:VEVENT
BEGIN:VEVENT
DTSTART;TZID=America/Los_Angeles:20220707T100000
DTEND;TZID=America/Los_Angeles:20220707T113000
DTSTAMP:20260421T030131
CREATED:20220716T051934Z
LAST-MODIFIED:20220716T052152Z
UID:10000020-1657188000-1657193400@first5siskiyou.org
SUMMARY:Nurturing Parenting for Grandparents and Other Caregivers
DESCRIPTION:This virtual class is facilitated by Gloria Endres\, MSW\, CLC\, and offers tools to help families become stronger\, more connected\, and attached. We will focus on the development of empathy\, self-worth\, self-awareness\, empowerment\, discipline with dignity\, appropriate family roles\, and age-appropriate expectations of children’s development. Raising your grandchildren or relative children\, while challenging\, can also be incredibly rewarding. \nDownload flyer in PDF\nRegister here!
URL:https://first5siskiyou.org/event/nurturing-parenting-for-grandparents-and-other-caregivers/2022-07-07/
ATTACH;FMTTYPE=image/jpeg:https://first5siskiyou.org/wp-content/uploads/2022/07/NP-Grandparents-Caregivers-Gloria-Endres-Ongoing-2022res.jpg
END:VEVENT
BEGIN:VEVENT
DTSTART;TZID=America/Los_Angeles:20220706T173000
DTEND;TZID=America/Los_Angeles:20220706T193000
DTSTAMP:20260421T030131
CREATED:20220831T000714Z
LAST-MODIFIED:20220907T180453Z
UID:10000130-1657128600-1657135800@first5siskiyou.org
SUMMARY:Strengthening Families for Dads and Dad-figures
DESCRIPTION:Co-facilitated by Toby Reusze and Fernie Fernandez \nBeing a nurturing father is critical for a child’s happy\, healthy development. This special program provides education\, resources\, and support to empower fathers and father figures to build safe\, healthy\, nurturing relationships with their children and address unique challenges and opportunities. \nDinner and child care will be provided.  No cost to participants. \nDownload flyer in PDF\nTo register\, call 530.842.1313
URL:https://first5siskiyou.org/event/strengthening-families-for-dads-and-dad-figures/2022-07-06/
ATTACH;FMTTYPE=image/png:https://first5siskiyou.org/wp-content/uploads/2022/09/SF-for-Dads-and-Dad-Figures-Ongoing-2022res-1.png
END:VEVENT
BEGIN:VEVENT
DTSTART;TZID=America/Los_Angeles:20220706T144500
DTEND;TZID=America/Los_Angeles:20220706T170000
DTSTAMP:20260421T030131
CREATED:20220629T004156Z
LAST-MODIFIED:20220709T000449Z
UID:10000163-1657118700-1657126800@first5siskiyou.org
SUMMARY:Stop Yelling 101
DESCRIPTION:Presented by Ce Eshelman\, LMFT\, Attachment and Trauma Specialist\, and Author \nNo parent likes to admit they sometimes “yell” at their kids to get them to listen. No shame. No blame. We are all in this together. This workshop will help you identify your hot spots and take basic steps to create peace in your parenting life. A virtual training — No cost to participants. \nDownload flyer in PDF \nRegister here!
URL:https://first5siskiyou.org/event/stop-yelling-101/
ATTACH;FMTTYPE=image/png:https://first5siskiyou.org/wp-content/uploads/2022/06/Ce-Eshelman-Stop-Yelling-101-July-6-2022res.png
END:VEVENT
BEGIN:VEVENT
DTSTART;TZID=America/Los_Angeles:20220706T093000
DTEND;TZID=America/Los_Angeles:20220706T110000
DTSTAMP:20260421T030131
CREATED:20220714T172844Z
LAST-MODIFIED:20220714T174402Z
UID:10000002-1657099800-1657105200@first5siskiyou.org
SUMMARY:Garden Connection
DESCRIPTION:Cultivate a love of nature\, a connection to plants and community\, and healthy eating in your children by signing up for FREE gardening classes! Children will learn how to plant and care for fresh seasonal vegetables in hands-on activities\, and harvest them under the guidance of Garden Instructors. Fresh produce to take home will be given to children for their volunteer work in the garden. Healthy snacks will be provided! Join us and have fun learning to garden and help grow a healthier community! \nClasses every Wednesday at the Dunsmuir Community Garden\, 5620 Dunsmuir Avenue in Dunsmuir \nDownload flyer in PDF\nSign-up by calling 530.235.4400
URL:https://first5siskiyou.org/event/community-garden-connection-2/2022-07-06/
ATTACH;FMTTYPE=image/png:https://first5siskiyou.org/wp-content/uploads/2022/07/Garden-Connection-Ongoing-through-Summer-2022res-1.png
END:VEVENT
BEGIN:VEVENT
DTSTART;TZID=America/Los_Angeles:20220705T173000
DTEND;TZID=America/Los_Angeles:20220705T193000
DTSTAMP:20260421T030131
CREATED:20220711T004444Z
LAST-MODIFIED:20220920T004350Z
UID:10000189-1657042200-1657049400@first5siskiyou.org
SUMMARY:Raising Emotionally Healthy Children
DESCRIPTION:MEETING THE 5 CRITICAL NEEDS OF CHILDREN … AND PARENTS TOO! \nThis unique free program for parents\, educators\, and caregivers is a fun and educational discussion based on the recently updated book How to Raise Emotionally Healthy Children … by Gerald Newmark\, Ph.D.\nInformation will be provided about how to nourish emotional health at home and at school and satisfy the critical emotional needs that all children have— to feel respected\, important\, accepted\, included and secure.\nLocation: Weed Community Center\, 161 E. Lincoln Street\, Weed\, CA\nDinner and child care are provided. No cost to participants \nDownload flyer in PDF\nRegister by calling 530.938.9914 \n 
URL:https://first5siskiyou.org/event/raising-emotionally-healthy-children/2022-07-05/
ATTACH;FMTTYPE=image/png:https://first5siskiyou.org/wp-content/uploads/2022/09/REHC-Jul-5-Sep-27-2022-updated-flyerres.png
END:VEVENT
BEGIN:VEVENT
DTSTART;TZID=America/Los_Angeles:20220705T120000
DTEND;TZID=America/Los_Angeles:20220705T130000
DTSTAMP:20260421T030131
CREATED:20220717T220330Z
LAST-MODIFIED:20220717T221148Z
UID:10000046-1657022400-1657026000@first5siskiyou.org
SUMMARY:Online Book Club
DESCRIPTION:First 5 Siskiyou and partners invite you to join Tuesday Book Club at noon for personal and professional growth in a fun and relaxed environment. Our time together will foster relationships\, a better understanding of diverse perspectives\, and expand our horizons. Facilitated by Katie Eastman \nDownload flyer in PDF\nSign-up by calling 530.918.7222
URL:https://first5siskiyou.org/event/online-book-club/2022-07-05/
ATTACH;FMTTYPE=image/png:https://first5siskiyou.org/wp-content/uploads/2022/07/Book-Club-Ongoing-July-2022res.png
END:VEVENT
BEGIN:VEVENT
DTSTART;TZID=America/Los_Angeles:20220705T100000
DTEND;TZID=America/Los_Angeles:20220705T120000
DTSTAMP:20260421T030131
CREATED:20220709T045626Z
LAST-MODIFIED:20220718T052818Z
UID:10000173-1657015200-1657022400@first5siskiyou.org
SUMMARY:Playgroup in Happy Camp
DESCRIPTION:These Play Groups are held on the 1st Tuesday of each month and are designed to promote learning and play in a safe\, age-appropriate setting and emphasize socialization for children ages 0-5.\nThey include free play\, art activities\, music\, story-time\, and much more! Facilitated by Nikki Crocker\, Child Development Coordinator for Happy Camp Community Center. Location: Happy Camp Community Center — 38 Park Way\, Happy Camp\, CA\n\nDownload flyer in PDF
URL:https://first5siskiyou.org/event/playgroup-in-happy-camp/2022-07-05/
ATTACH;FMTTYPE=image/png:https://first5siskiyou.org/wp-content/uploads/2022/07/Play-Group-Happy-Camp-Ongoing-Summer-2022res-1.png
END:VEVENT
BEGIN:VEVENT
DTSTART;TZID=America/Los_Angeles:20220705T093000
DTEND;TZID=America/Los_Angeles:20220705T110000
DTSTAMP:20260421T030131
CREATED:20220714T171818Z
LAST-MODIFIED:20220714T174930Z
UID:10000011-1657013400-1657018800@first5siskiyou.org
SUMMARY:Garden Connection
DESCRIPTION:Cultivate a love of nature\, a connection to plants and community\, and healthy eating in your children by signing up for FREE gardening classes! Children will learn how to plant and care for fresh seasonal vegetables in hands-on activities\, and harvest them under the guidance of Garden Instructors. Fresh produce to take home will be given to children for their volunteer work in the garden. Healthy snacks will be provided! Join us and have fun learning to garden and help grow a healthier community! \nClasses every Tuesday in Mt. Shasta at the Siskiyou Land Trust Garden\, 522 E. Alma Street in Mt. Shasta \nDownload flyer in PDF\nSign-up by calling 530.926.1400
URL:https://first5siskiyou.org/event/community-garden-connection/2022-07-05/
ATTACH;FMTTYPE=image/png:https://first5siskiyou.org/wp-content/uploads/2022/07/Garden-Connection-Ongoing-through-Summer-2022res-1.png
END:VEVENT
BEGIN:VEVENT
DTSTART;VALUE=DATE:20220704
DTEND;VALUE=DATE:20220705
DTSTAMP:20260421T030131
CREATED:20220717T231058Z
LAST-MODIFIED:20220717T231058Z
UID:10000121-1656892800-1656979199@first5siskiyou.org
SUMMARY:Independence Day Holiday!
DESCRIPTION:
URL:https://first5siskiyou.org/event/independence-day-holiday/
ATTACH;FMTTYPE=image/png:https://first5siskiyou.org/wp-content/uploads/2022/07/iStock-991079886res.png
END:VEVENT
BEGIN:VEVENT
DTSTART;TZID=America/Los_Angeles:20220701T100000
DTEND;TZID=America/Los_Angeles:20220701T110000
DTSTAMP:20260421T030131
CREATED:20220717T222022Z
LAST-MODIFIED:20220717T230334Z
UID:10000092-1656669600-1656673200@first5siskiyou.org
SUMMARY:Breastfeeding Support
DESCRIPTION:Breastfeeding support and sisterhood with Jenna Henson Marshall\, who is an IBCLC (International Board Certified Lactation Consultant) and Registered Dietitian\, and join moms for listening\, guidance to care\, and questions about all things nursing. Contact Jenna via cell 510.207.8817 or email (llenalynn@hotmail.com) for a link to a zoom or for advanced breastfeeding consultation needs. \nJenna provides a warm line to ask about nursing and infant feeding via text. Deeper conversations found at the sisterhood support zoom on Fridays. \nDownload flyer in PDF
URL:https://first5siskiyou.org/event/breastfeeding-support/2022-07-01/
ATTACH;FMTTYPE=image/png:https://first5siskiyou.org/wp-content/uploads/2022/07/Breastfeeding-Support-Jenna-Nov-2021res.png
END:VEVENT
END:VCALENDAR